BEGIN:VCALENDAR
VERSION:2.0
PRODID:icalendar-ruby
CALSCALE:GREGORIAN
METHOD:PUBLISH
BEGIN:VEVENT
DTSTAMP:20260424T185240Z
UID:77-834592@uscabq.org
DTSTART:20260924T190000Z
DTEND:20260924T200000Z
CLASS:PUBLIC
CREATED:20260306T201350
DESCRIPTION:Our Healing Prayer Circle is on the 4th Thursday of each month\
 , 1:00 - 2:00 pm. The location for both will be the CommUnity Room. Enter 
 by the South door or the handicap entrance on the Southeast side of the bu
 ilding off the back parking lot. There will be no Healing Prayer Circle in
  November due to Thanksgiving.\nJoin in prayers for healing whether for yo
 urself\, others\, the world. All are welcome. \nUnity was founded due to 
 healing. After attending a seminar by Dr. E. B. Weeks\, Unity co-founder M
 yrtle Fillmore\, had a revelation about healing. She had battled with tube
 rculosis most of her life and was in the end stages of the disease. She be
 gan to affirm that as a perfect child of God (as we all are) she could be 
 healed and she was. She shared her insights with others in circles and ga
 therings and along with her husband\, Charles Fillmore\, created the Unity
  movement.\nWith prayerful intention and affirmation for friends\, family\
 , community\, and our world in a consciousness of healing\, peace\, prospe
 rity and well-being we form a Healing Circle every 4th Thursday at USC ABQ
 .
LAST-MODIFIED:20260306T201350
LOCATION:Unity Spiritual Center Albuquerque\, Main Building\, CommUnity Roo
 m\, please use the South Door
SUMMARY:Healing Prayer Circle
URL;VALUE=URI:https://www.uscabq.org/events/healing-prayer-circle--77/2026-
 09-24
ATTACH;FILENAME=Healing Prayer Circle New Time 1-2 .png;FMTTYPE=image/png:h
 ttps://dq5pwpg1q8ru0.cloudfront.net/2026/03/07/03/01/25/52ed785b-a1e6-4875
 -a1bf-329ed4ceaaf1/Healing%20Prayer%20Circle%20New%20Time%201-2%20.png
END:VEVENT
END:VCALENDAR
