BEGIN:VCALENDAR
VERSION:2.0
PRODID:icalendar-ruby
CALSCALE:GREGORIAN
METHOD:PUBLISH
BEGIN:VEVENT
DTSTAMP:20260424T092317Z
UID:5-970812@uscabq.org
DTSTART:20240310T160000Z
DTEND:20240310T171500Z
CLASS:PUBLIC
CREATED:20260423T200611
DESCRIPTION:\n\n\n\n\n\n\n\nSunday\, April 19\, 10 a.m.\, a special Music S
 unday\, in person and on FaceBook Live\, at Unity Spiritual Center Albuque
 rque join Todd Lowry and The Unity Soulshine Band with Becca Grant (vocali
 st)\, Katie Johnson (trombone)\, David Craig (vocals and keyboard)\, Bill 
 Brooks (soloist) for a garden of live music. Todd Lowry will premiere his 
 newest song. \n\n\n\nSunday\, April 19\, is MUSIC SUNDAY.\n\n\nSUNDAY PRO
 GRAM FOR KIDS (Kindergarten through high school) AT 10:00 AM.\n\n\n\n\n\n\
 n\n\n\n\n\n\nIf you are interested in learning more about our Youth and Fa
 mily Ministry program\, please contact: Tifani Vincent - yfm@abqunity.org
 \nBarbara Bilobran - teens@abqunity.org\nGordon Keyler - minister@abqunity
 .org\n\n\n\n\n\n\n\n\n\n\n\n\n\n\n\n\n\n\n\n\n\n\n\n\n\n\n\n\n\n\n\n\n\n\n
 \n\n\n\n\n\n \n\n\n\n\n\n\n\n\n\n\n\n\n\n\n\n\n\n\n\n\n\n\n\n\n\n\n\n\n\n
 \n\n\n\n\n\n\n\n\n\n\n\n\n
LAST-MODIFIED:20260423T200611
LOCATION:Unity Spiritual Center Albuquerque\, Sanctuary\, 9800 Candelaria N
 E\, Albuquerque\, NM 87112
SUMMARY:Sunday Service
URL;VALUE=URI:https://www.uscabq.org/events/sunday-service/2024-03-10
ATTACH;FILENAME=Music Sunday Garden with date 2026 (1).png;FMTTYPE=image/pn
 g:https://dq5pwpg1q8ru0.cloudfront.net/2026/04/12/04/47/28/c77fd169-5173-4
 04e-ab55-3d21caa54f4a/Music%20Sunday%20Garden%20with%20date%202026%20(1).p
 ng
END:VEVENT
END:VCALENDAR
